BEGIN:VCALENDAR
VERSION:2.0
PRODID:-//1891 Financial Life - ECPv6.15.20//NONSGML v1.0//EN
CALSCALE:GREGORIAN
METHOD:PUBLISH
X-ORIGINAL-URL:https://www.1891financiallife.com
X-WR-CALDESC:Events for 1891 Financial Life
REFRESH-INTERVAL;VALUE=DURATION:PT1H
X-Robots-Tag:noindex
X-PUBLISHED-TTL:PT1H
BEGIN:VTIMEZONE
TZID:America/Chicago
BEGIN:DAYLIGHT
TZOFFSETFROM:-0600
TZOFFSETTO:-0500
TZNAME:CDT
DTSTART:20240310T080000
END:DAYLIGHT
BEGIN:STANDARD
TZOFFSETFROM:-0500
TZOFFSETTO:-0600
TZNAME:CST
DTSTART:20241103T070000
END:STANDARD
BEGIN:DAYLIGHT
TZOFFSETFROM:-0600
TZOFFSETTO:-0500
TZNAME:CDT
DTSTART:20250309T080000
END:DAYLIGHT
BEGIN:STANDARD
TZOFFSETFROM:-0500
TZOFFSETTO:-0600
TZNAME:CST
DTSTART:20251102T070000
END:STANDARD
BEGIN:DAYLIGHT
TZOFFSETFROM:-0600
TZOFFSETTO:-0500
TZNAME:CDT
DTSTART:20260308T080000
END:DAYLIGHT
BEGIN:STANDARD
TZOFFSETFROM:-0500
TZOFFSETTO:-0600
TZNAME:CST
DTSTART:20261101T070000
END:STANDARD
END:VTIMEZONE
BEGIN:VEVENT
DTSTART;TZID=America/Chicago:20250523T090000
DTEND;TZID=America/Chicago:20250526T160000
DTSTAMP:20260423T142733
CREATED:20250416T190822Z
LAST-MODIFIED:20250416T190822Z
UID:16902-1747990800-1748275200@www.1891financiallife.com
SUMMARY:4-Day Bake and Rummage Sale
DESCRIPTION:Holy Ghost Impact Team 228 in Dickeyville\, Wisconsin is hosting their annual bake and rummage sale! Enjoy baked goods and rummage sale finds while raising funds to upkeep the beautiful organ at Holy Ghost Church. \nEvent Details\n\nDate: May 23-26\, 2025\nTime: 9 a.m. to 4 p.m.\nLocation: Holy Ghost Catholic Church\, 305 West Main St.\, Dickeyville WI 53808\n\nFor this sponsored event\, 1891 Financial Life will match all funds raised up to $1\,500. Funds raised will go to the Holy Ghost Church’s organ fund. \nAbout Holy Ghost Impact Team 228\nComprised of 1891 Financial Life members\, Holy Ghost Impact Team 228 was founded in September 1948. Impact Team 228 is committed to supporting Christian values and local initiatives that contribute to the vibrancy of the community. \nAbout 1891 Financial Life\nAt 1891 Financial Life (formerly National Catholic Society of Foresters) we don’t just sell policies\, we offer possibilities. We pride ourselves on giving back to the communities that we serve by providing quality and comprehensive insurance solutions. We are a not-for-profit life insurance Society\, which means the sales from these financial service products help fund member benefits along with social\, educational\, and volunteer programs designed to respond to community needs. In 2023\, 1891 Financial Life was listed by Forbes as one of “The World’s Best Life Insurance Companies.” \nOur portfolio is extensive\, ranging from various life insurance policies to our annuities to support your financial needs no matter what stage of life you’re in. For more information\, contact us at info@1891FinancialLife.com.
URL:https://www.1891financiallife.com/event/4-day-bake-and-rummage-sale/
LOCATION:Holy Ghost Church\, 305 W Main St\, Dickeyville\, WI\, 53808\, United States
CATEGORIES:Holy Ghost Court 228
ATTACH;FMTTYPE=image/jpeg:https://www.1891financiallife.com/wp-content/uploads/2025/04/228-HH-bake-garage-May-23-26-LTR.jpg
END:VEVENT
END:VCALENDAR